BEGIN:VCALENDAR
VERSION:2.0
CALSCALE:GREGORIAN
PRODID:-//Diputació de Barcelona//DibaCMS//EN
BEGIN:VEVENT
UID:6621
DTSTAMP:20260425T185447
DTSTART:20120914T200000
DTEND:20120914T000000
SUMMARY:Exposició de Poesia Visual i Poemes Objecte, a càrrec de Maria Romaní i Marcel Ayats. Del 14 al 30 de setembre.
LOCATION:
METHOD:PUBLISH
X-WR-CALNAME:caldesm@caldesdemontbui.cat
X-WR-TIMEZONE:Europe/Madrid
DESCRIPTION:
URI:https://www.caldesdemontbui.cat/actualitat/agenda/exposicio-de-poesia-visual-i-poemes-objecte-a-carrec-de-maria-romani-i-marcel-ayats-del-14-al-30-de-setembre.html
CLASS:PUBLIC
END:VEVENT
END:VCALENDAR
