BEGIN:VCALENDAR
VERSION:2.0
CALSCALE:GREGORIAN
PRODID:-//Diputació de Barcelona//DibaCMS//EN
BEGIN:VEVENT
UID:6618
DTSTAMP:20260424T095251
DTSTART:20120913T193000
DTEND:20120913T000000
SUMMARY:Xerrada : El psicoanàlisi i el sentit dels somnis
LOCATION:
METHOD:PUBLISH
X-WR-CALNAME:caldesm@caldesdemontbui.cat
X-WR-TIMEZONE:Europe/Madrid
DESCRIPTION:
URI:https://www.caldesdemontbui.cat/actualitat/agenda/xerrada--el-psicoanalisi-i-el-sentit-dels-somnis.html
CLASS:PUBLIC
END:VEVENT
END:VCALENDAR
