BEGIN:VCALENDAR
VERSION:2.0
CALSCALE:GREGORIAN
PRODID:-//Diputació de Barcelona//DibaCMS//EN
BEGIN:VEVENT
UID:6616
DTSTAMP:20260424T094934
DTSTART:20120910T213000
DTEND:20120910T000000
SUMMARY:Marxa de torxes per la Independència 
LOCATION:
METHOD:PUBLISH
X-WR-CALNAME:caldesm@caldesdemontbui.cat
X-WR-TIMEZONE:Europe/Madrid
DESCRIPTION:
URI:https://www.caldesdemontbui.cat/actualitat/agenda/marxa-de-torxes-per-la-independencia-.html
CLASS:PUBLIC
END:VEVENT
END:VCALENDAR
