BEGIN:VCALENDAR
VERSION:2.0
CALSCALE:GREGORIAN
PRODID:-//Diputació de Barcelona//DibaCMS//EN
BEGIN:VEVENT
UID:6615
DTSTAMP:20260424T083156
DTSTART:20120910T000000
DTEND:20120910T000000
SUMMARY:Inici d'inscripcions per a la sessió de formació en l'ús d'Internet. Nivell inicial
LOCATION:
METHOD:PUBLISH
X-WR-CALNAME:caldesm@caldesdemontbui.cat
X-WR-TIMEZONE:Europe/Madrid
DESCRIPTION:
URI:https://www.caldesdemontbui.cat/actualitat/agenda/inici-dinscripcions-per-a-la-sessio-de-formacio-en-ls-dinternet-nivell-inicial.html
CLASS:PUBLIC
END:VEVENT
END:VCALENDAR
