BEGIN:VCALENDAR
VERSION:2.0
CALSCALE:GREGORIAN
PRODID:-//Diputació de Barcelona//DibaCMS//EN
BEGIN:VEVENT
UID:6614
DTSTAMP:20260424T064923
DTSTART:20120909T183000
DTEND:20120909T000000
SUMMARY:Actes a l'entorn de l'11 de Setembre: Recital "Estimació a la pàtria"
LOCATION:
METHOD:PUBLISH
X-WR-CALNAME:caldesm@caldesdemontbui.cat
X-WR-TIMEZONE:Europe/Madrid
DESCRIPTION:
URI:https://www.caldesdemontbui.cat/actualitat/agenda/actes-a-lentorn-de-l11-de-setembre-recital-estimacio-a-la-patria.html
CLASS:PUBLIC
END:VEVENT
END:VCALENDAR
