BEGIN:VCALENDAR
VERSION:2.0
CALSCALE:GREGORIAN
PRODID:-//Diputació de Barcelona//DibaCMS//EN
BEGIN:VEVENT
UID:6613
DTSTAMP:20260424T051525
DTSTART:20120908T220000
DTEND:20120908T000000
SUMMARY:Actes a l'entorn de l'11 de Setembre: Ballada de sardanes amb l'Agrupació Sardanista Calderina i la Cobla Ciutat de Terrassa
LOCATION:
METHOD:PUBLISH
X-WR-CALNAME:caldesm@caldesdemontbui.cat
X-WR-TIMEZONE:Europe/Madrid
DESCRIPTION:
URI:https://www.caldesdemontbui.cat/actualitat/agenda/actes-a-lentorn-de-l11-de-setembre-ballada-de-sardanes-amb-lagrupacio-sardanista-calderina-i-la-cobla-ciutat-de-terrassa.html
CLASS:PUBLIC
END:VEVENT
END:VCALENDAR
