BEGIN:VCALENDAR
VERSION:2.0
CALSCALE:GREGORIAN
PRODID:-//Diputació de Barcelona//DibaCMS//EN
BEGIN:VEVENT
UID:6610
DTSTAMP:20260424T064815
DTSTART:20120905T000000
DTEND:20120929T000000
SUMMARY:Del 5 al 29 de setembre tindrà lloc a la Biblioteca de Caldes l'Exposició: Cinema i Pau
LOCATION:
METHOD:PUBLISH
X-WR-CALNAME:caldesm@caldesdemontbui.cat
X-WR-TIMEZONE:Europe/Madrid
DESCRIPTION:
URI:https://www.caldesdemontbui.cat/actualitat/agenda/del-5-al-29-de-setembre-tindra-lloc-a-la-biblioteca-de-caldes-lexposicio-cinema-i-pau.html
CLASS:PUBLIC
END:VEVENT
END:VCALENDAR
