BEGIN:VCALENDAR
VERSION:2.0
CALSCALE:GREGORIAN
PRODID:-//Diputació de Barcelona//DibaCMS//EN
BEGIN:VEVENT
UID:6605
DTSTAMP:20260424T062509
DTSTART:20120731T000000
DTEND:20120731T000000
SUMMARY:Vine a formar part del nou Cor de Gospel
LOCATION:
METHOD:PUBLISH
X-WR-CALNAME:caldesm@caldesdemontbui.cat
X-WR-TIMEZONE:Europe/Madrid
DESCRIPTION:
URI:https://www.caldesdemontbui.cat/actualitat/agenda/vine-a-formar-part-del-nou-cor-de-gospel.html
CLASS:PUBLIC
END:VEVENT
END:VCALENDAR
