BEGIN:VCALENDAR
VERSION:2.0
CALSCALE:GREGORIAN
PRODID:-//Diputació de Barcelona//DibaCMS//EN
BEGIN:VEVENT
UID:6600
DTSTAMP:20260424T094858
DTSTART:20120727T200000
DTEND:20120727T000000
SUMMARY:Temps d'estiu, Àngels Rubio en concert
LOCATION:
METHOD:PUBLISH
X-WR-CALNAME:caldesm@caldesdemontbui.cat
X-WR-TIMEZONE:Europe/Madrid
DESCRIPTION:
URI:https://www.caldesdemontbui.cat/actualitat/agenda/temps-destiu-angels-rubio-en-concert.html
CLASS:PUBLIC
END:VEVENT
END:VCALENDAR
