BEGIN:VCALENDAR
VERSION:2.0
CALSCALE:GREGORIAN
PRODID:-//Diputació de Barcelona//DibaCMS//EN
BEGIN:VEVENT
UID:6599
DTSTAMP:20260424T045844
DTSTART:20120721T193000
DTEND:20120721T000000
SUMMARY:Posem-nos a caminar: parlem de la CUP amb Quim Arrufat
LOCATION:
METHOD:PUBLISH
X-WR-CALNAME:caldesm@caldesdemontbui.cat
X-WR-TIMEZONE:Europe/Madrid
DESCRIPTION:
URI:https://www.caldesdemontbui.cat/actualitat/agenda/posem-nos-a-caminar-parlem-de-la-cup-amb-quim-arrufat.html
CLASS:PUBLIC
END:VEVENT
END:VCALENDAR
