BEGIN:VCALENDAR
VERSION:2.0
CALSCALE:GREGORIAN
PRODID:-//Diputació de Barcelona//DibaCMS//EN
BEGIN:VEVENT
UID:6596
DTSTAMP:20260424T075948
DTSTART:20120721T000000
DTEND:20120721T000000
SUMMARY:Travessa per pujar al cim del Peguera fent nit al refugi de Josep M. Blanc
LOCATION:
METHOD:PUBLISH
X-WR-CALNAME:caldesm@caldesdemontbui.cat
X-WR-TIMEZONE:Europe/Madrid
DESCRIPTION:
URI:https://www.caldesdemontbui.cat/actualitat/agenda/travessa-per-pujar-al-cim-del-peguera-fent-nit-al-refugi-de-josep-m-blanc.html
CLASS:PUBLIC
END:VEVENT
END:VCALENDAR
