BEGIN:VCALENDAR
VERSION:2.0
CALSCALE:GREGORIAN
PRODID:-//Diputació de Barcelona//DibaCMS//EN
BEGIN:VEVENT
UID:6595
DTSTAMP:20260424T080333
DTSTART:20120720T220000
DTEND:20120720T000000
SUMMARY:Caldeja't 2012. Projeccions a la fresca. Islàndia Terra de Foc i Gel 
LOCATION:
METHOD:PUBLISH
X-WR-CALNAME:caldesm@caldesdemontbui.cat
X-WR-TIMEZONE:Europe/Madrid
DESCRIPTION:
URI:https://www.caldesdemontbui.cat/actualitat/agenda/caldejat-2012-projeccions-a-la-fresca-islandia-terra-de-foc-i-gel-.html
CLASS:PUBLIC
END:VEVENT
END:VCALENDAR
