BEGIN:VCALENDAR
VERSION:2.0
CALSCALE:GREGORIAN
PRODID:-//Diputació de Barcelona//DibaCMS//EN
BEGIN:VEVENT
UID:6594
DTSTAMP:20260424T045805
DTSTART:20120720T200000
DTEND:20120720T000000
SUMMARY:Sopar íber-romà al jaciment de Torre Roja
LOCATION:
METHOD:PUBLISH
X-WR-CALNAME:caldesm@caldesdemontbui.cat
X-WR-TIMEZONE:Europe/Madrid
DESCRIPTION:
URI:https://www.caldesdemontbui.cat/actualitat/agenda/sopar-iber-roma-al-jaciment-de-torre-roja.html
CLASS:PUBLIC
END:VEVENT
END:VCALENDAR
