BEGIN:VCALENDAR
VERSION:2.0
CALSCALE:GREGORIAN
PRODID:-//Diputació de Barcelona//DibaCMS//EN
BEGIN:VEVENT
UID:6593
DTSTAMP:20260424T082959
DTSTART:20120715T170000
DTEND:20120715T000000
SUMMARY:Sortida dels participants de Caldes a l'activitat "Per l'estat propi, roda el Vallès Oriental" 
LOCATION:
METHOD:PUBLISH
X-WR-CALNAME:caldesm@caldesdemontbui.cat
X-WR-TIMEZONE:Europe/Madrid
DESCRIPTION:
URI:https://www.caldesdemontbui.cat/actualitat/agenda/sortida-dels-participants-de-caldes-a-lactivitat-per-lestat-propi-roda-el-valles-oriental-.html
CLASS:PUBLIC
END:VEVENT
END:VCALENDAR
