BEGIN:VCALENDAR
VERSION:2.0
CALSCALE:GREGORIAN
PRODID:-//Diputació de Barcelona//DibaCMS//EN
BEGIN:VEVENT
UID:6592
DTSTAMP:20260424T131234
DTSTART:20120715T100000
DTEND:20120715T000000
SUMMARY:Fira d'antiquaris i brocanters 
LOCATION:
METHOD:PUBLISH
X-WR-CALNAME:caldesm@caldesdemontbui.cat
X-WR-TIMEZONE:Europe/Madrid
DESCRIPTION:
URI:https://www.caldesdemontbui.cat/actualitat/agenda/fira-dantiquaris-i-brocanters-07-12.html
CLASS:PUBLIC
END:VEVENT
END:VCALENDAR
