BEGIN:VCALENDAR
VERSION:2.0
CALSCALE:GREGORIAN
PRODID:-//Diputació de Barcelona//DibaCMS//EN
BEGIN:VEVENT
UID:6590
DTSTAMP:20260424T080929
DTSTART:20120715T000000
DTEND:20120715T000000
SUMMARY:Sortida matinal al Montseny, a l'empedrat de Morou. 
LOCATION:
METHOD:PUBLISH
X-WR-CALNAME:caldesm@caldesdemontbui.cat
X-WR-TIMEZONE:Europe/Madrid
DESCRIPTION:
URI:https://www.caldesdemontbui.cat/actualitat/agenda/sortida-matinal-al-montseny-a-lempedrat-de-morou-.html
CLASS:PUBLIC
END:VEVENT
END:VCALENDAR
