BEGIN:VCALENDAR
VERSION:2.0
CALSCALE:GREGORIAN
PRODID:-//Diputació de Barcelona//DibaCMS//EN
BEGIN:VEVENT
UID:6589
DTSTAMP:20260424T101142
DTSTART:20120714T234500
DTEND:20120714T000000
SUMMARY:Caldeja't 2012. Escaldàrium, la festa del foc i de l'aigua
LOCATION:
METHOD:PUBLISH
X-WR-CALNAME:caldesm@caldesdemontbui.cat
X-WR-TIMEZONE:Europe/Madrid
DESCRIPTION:
URI:https://www.caldesdemontbui.cat/actualitat/agenda/caldejat-2012-escaldarium-la-festa-del-foc-i-de-laigua.html
CLASS:PUBLIC
END:VEVENT
END:VCALENDAR
