BEGIN:VCALENDAR
VERSION:2.0
CALSCALE:GREGORIAN
PRODID:-//Diputació de Barcelona//DibaCMS//EN
BEGIN:VEVENT
UID:6587
DTSTAMP:20260424T100425
DTSTART:20120714T180000
DTEND:20120714T000000
SUMMARY:Escaldàrium. La festa del foc i l'aigua 2012
LOCATION:
METHOD:PUBLISH
X-WR-CALNAME:caldesm@caldesdemontbui.cat
X-WR-TIMEZONE:Europe/Madrid
DESCRIPTION:
URI:https://www.caldesdemontbui.cat/actualitat/agenda/escaldarium-la-festa-del-foc-i-laigua-2012.html
CLASS:PUBLIC
END:VEVENT
END:VCALENDAR
