BEGIN:VCALENDAR
VERSION:2.0
CALSCALE:GREGORIAN
PRODID:-//Diputació de Barcelona//DibaCMS//EN
BEGIN:VEVENT
UID:6586
DTSTAMP:20260424T081051
DTSTART:20120714T000000
DTEND:20120714T000000
SUMMARY:Caldeja't 2012. Festa de Barri de Can Rossell
LOCATION:
METHOD:PUBLISH
X-WR-CALNAME:caldesm@caldesdemontbui.cat
X-WR-TIMEZONE:Europe/Madrid
DESCRIPTION:
URI:https://www.caldesdemontbui.cat/actualitat/agenda/caldejat-2012-festa-de-barri-de-can-rossell.html
CLASS:PUBLIC
END:VEVENT
END:VCALENDAR
