BEGIN:VCALENDAR
VERSION:2.0
CALSCALE:GREGORIAN
PRODID:-//Diputació de Barcelona//DibaCMS//EN
BEGIN:VEVENT
UID:6585
DTSTAMP:20260424T100602
DTSTART:20120713T220000
DTEND:20120713T000000
SUMMARY:Caldeja't 2012. Sardanes a la fresca amb la cobla dels Lluïsos de Taradell
LOCATION:
METHOD:PUBLISH
X-WR-CALNAME:caldesm@caldesdemontbui.cat
X-WR-TIMEZONE:Europe/Madrid
DESCRIPTION:
URI:https://www.caldesdemontbui.cat/actualitat/agenda/caldejat-2012-sardanes-a-la-fresca-amb-la-cobla-dels-lluisos-de-taradell.html
CLASS:PUBLIC
END:VEVENT
END:VCALENDAR
