BEGIN:VCALENDAR
VERSION:2.0
CALSCALE:GREGORIAN
PRODID:-//Diputació de Barcelona//DibaCMS//EN
BEGIN:VEVENT
UID:6584
DTSTAMP:20260424T115530
DTSTART:20120713T220000
DTEND:20120713T000000
SUMMARY:Caldeja't 2012. Projeccions a la fresca: Doctor Crestas Festival
LOCATION:
METHOD:PUBLISH
X-WR-CALNAME:caldesm@caldesdemontbui.cat
X-WR-TIMEZONE:Europe/Madrid
DESCRIPTION:
URI:https://www.caldesdemontbui.cat/actualitat/agenda/caldejat-2012-projeccions-a-la-fresca-doctor-crestas-festival.html
CLASS:PUBLIC
END:VEVENT
END:VCALENDAR
