BEGIN:VCALENDAR
VERSION:2.0
CALSCALE:GREGORIAN
PRODID:-//Diputació de Barcelona//DibaCMS//EN
BEGIN:VEVENT
UID:6583
DTSTAMP:20260424T094654
DTSTART:20120713T200000
DTEND:20120713T000000
SUMMARY:Caldeja't 2012. Assaig casteller a la fresca
LOCATION:
METHOD:PUBLISH
X-WR-CALNAME:caldesm@caldesdemontbui.cat
X-WR-TIMEZONE:Europe/Madrid
DESCRIPTION:
URI:https://www.caldesdemontbui.cat/actualitat/agenda/caldejat-2012-assaig-casteller-a-la-fresca.html
CLASS:PUBLIC
END:VEVENT
END:VCALENDAR
