BEGIN:VCALENDAR
VERSION:2.0
CALSCALE:GREGORIAN
PRODID:-//Diputació de Barcelona//DibaCMS//EN
BEGIN:VEVENT
UID:6582
DTSTAMP:20260424T082903
DTSTART:20120713T190000
DTEND:20120713T000000
SUMMARY:Inauguració de l'exposició "SOS: senyals de fum des d'un subsòl"
LOCATION:
METHOD:PUBLISH
X-WR-CALNAME:caldesm@caldesdemontbui.cat
X-WR-TIMEZONE:Europe/Madrid
DESCRIPTION:
URI:https://www.caldesdemontbui.cat/actualitat/agenda/inauguracio-de-lexposicio-sos-senyals-de-fum-des-dun-subsol.html
CLASS:PUBLIC
END:VEVENT
END:VCALENDAR
