BEGIN:VCALENDAR
VERSION:2.0
CALSCALE:GREGORIAN
PRODID:-//Diputació de Barcelona//DibaCMS//EN
BEGIN:VEVENT
UID:6578
DTSTAMP:20260424T131407
DTSTART:20120707T100000
DTEND:20120707T000000
SUMMARY:Campanya de donació de sang (de 10 a 14 h)
LOCATION:
METHOD:PUBLISH
X-WR-CALNAME:caldesm@caldesdemontbui.cat
X-WR-TIMEZONE:Europe/Madrid
DESCRIPTION:
URI:https://www.caldesdemontbui.cat/actualitat/agenda/campanya-de-donacio-de-sang-de-10-a-14-h.html
CLASS:PUBLIC
END:VEVENT
END:VCALENDAR
