BEGIN:VCALENDAR
VERSION:2.0
CALSCALE:GREGORIAN
PRODID:-//Diputació de Barcelona//DibaCMS//EN
BEGIN:VEVENT
UID:6575
DTSTAMP:20260424T100207
DTSTART:20120706T223000
DTEND:20120706T000000
SUMMARY:Cireres 2012. Restaurant Balneari Termes Victòria i concert de Flaustaff
LOCATION:
METHOD:PUBLISH
X-WR-CALNAME:caldesm@caldesdemontbui.cat
X-WR-TIMEZONE:Europe/Madrid
DESCRIPTION:
URI:https://www.caldesdemontbui.cat/actualitat/agenda/cireres-2012-restaurant-balneari-termes-victoria-i-concert-de-flaustaff.html
CLASS:PUBLIC
END:VEVENT
END:VCALENDAR
