BEGIN:VCALENDAR
VERSION:2.0
CALSCALE:GREGORIAN
PRODID:-//Diputació de Barcelona//DibaCMS//EN
BEGIN:VEVENT
UID:6574
DTSTAMP:20260424T083729
DTSTART:20120706T220000
DTEND:20120706T000000
SUMMARY:Caldeja't 2012. Projeccions a la fresca. Paisatges alpins: Chamonix i refugi Hörnlihütte
LOCATION:
METHOD:PUBLISH
X-WR-CALNAME:caldesm@caldesdemontbui.cat
X-WR-TIMEZONE:Europe/Madrid
DESCRIPTION:
URI:https://www.caldesdemontbui.cat/actualitat/agenda/caldejat-2012-projeccions-a-la-fresca-paisatges-alpins-chamonix-i-refugi-hornlihtte.html
CLASS:PUBLIC
END:VEVENT
END:VCALENDAR
