BEGIN:VCALENDAR
VERSION:2.0
CALSCALE:GREGORIAN
PRODID:-//Diputació de Barcelona//DibaCMS//EN
BEGIN:VEVENT
UID:6571
DTSTAMP:20260425T053008
DTSTART:20120705T213000
DTEND:20120705T000000
SUMMARY:Cireres 2012. Restaurant Robert de Nola i concert del Grup H30, Música Americana i activitats diverses
LOCATION:
METHOD:PUBLISH
X-WR-CALNAME:caldesm@caldesdemontbui.cat
X-WR-TIMEZONE:Europe/Madrid
DESCRIPTION:
URI:https://www.caldesdemontbui.cat/actualitat/agenda/cireres-2012-restaurant-robert-de-nola-i-concert-del-grup-h30-msica-americana-i-activitats-diverses.html
CLASS:PUBLIC
END:VEVENT
END:VCALENDAR
