BEGIN:VCALENDAR
VERSION:2.0
CALSCALE:GREGORIAN
PRODID:-//Diputació de Barcelona//DibaCMS//EN
BEGIN:VEVENT
UID:6570
DTSTAMP:20260425T051447
DTSTART:20120705T200000
DTEND:20120705T000000
SUMMARY:Cireres: Sopar i mostra de vi i artistes organitzada per Robert de Nola
LOCATION:
METHOD:PUBLISH
X-WR-CALNAME:caldesm@caldesdemontbui.cat
X-WR-TIMEZONE:Europe/Madrid
DESCRIPTION:
URI:https://www.caldesdemontbui.cat/actualitat/agenda/cireres-sopar-i-mostra-de-vi-i-artistes-organitzada-per-robert-de-nola.html
CLASS:PUBLIC
END:VEVENT
END:VCALENDAR
