BEGIN:VCALENDAR
VERSION:2.0
CALSCALE:GREGORIAN
PRODID:-//Diputació de Barcelona//DibaCMS//EN
BEGIN:VEVENT
UID:6569
DTSTAMP:20260424T064708
DTSTART:20120704T183000
DTEND:20120704T000000
SUMMARY:Taller de tractament de fotografies a la Biblioteca de Caldes "Taller Viatgers 2.0"
LOCATION:
METHOD:PUBLISH
X-WR-CALNAME:caldesm@caldesdemontbui.cat
X-WR-TIMEZONE:Europe/Madrid
DESCRIPTION:
URI:https://www.caldesdemontbui.cat/actualitat/agenda/taller-de-tractament-de-fotografies-a-la-biblioteca-de-caldes-taller-viatgers-20.html
CLASS:PUBLIC
END:VEVENT
END:VCALENDAR
