BEGIN:VCALENDAR
VERSION:2.0
CALSCALE:GREGORIAN
PRODID:-//Diputació de Barcelona//DibaCMS//EN
BEGIN:VEVENT
UID:6566
DTSTAMP:20260424T051352
DTSTART:20120702T183000
DTEND:20120702T000000
SUMMARY:Curs d'estiu del Taller Municipal d'Art Manolo Hugué. Curs d'escultura amb alabastre. Del 2 al 6 de juliol
LOCATION:
METHOD:PUBLISH
X-WR-CALNAME:caldesm@caldesdemontbui.cat
X-WR-TIMEZONE:Europe/Madrid
DESCRIPTION:
URI:https://www.caldesdemontbui.cat/actualitat/agenda/curs-destiu-del-taller-municipal-dart-manolo-hugue-curs-descultura-amb-alabastre-del-2-al-6-de-juliol.html
CLASS:PUBLIC
END:VEVENT
END:VCALENDAR
