BEGIN:VCALENDAR
VERSION:2.0
CALSCALE:GREGORIAN
PRODID:-//Diputació de Barcelona//DibaCMS//EN
BEGIN:VEVENT
UID:6565
DTSTAMP:20260424T083209
DTSTART:20120702T160000
DTEND:20120702T000000
SUMMARY:Tallers d'estiu 2012 a la Biblioteca de Caldes "Book-Express: L'aventura de la lectura"
LOCATION:
METHOD:PUBLISH
X-WR-CALNAME:caldesm@caldesdemontbui.cat
X-WR-TIMEZONE:Europe/Madrid
DESCRIPTION:
URI:https://www.caldesdemontbui.cat/actualitat/agenda/tallers-destiu-2012-a-la-biblioteca-de-caldes-book-express-laventura-de-la-lectura.html
CLASS:PUBLIC
END:VEVENT
END:VCALENDAR
