BEGIN:VCALENDAR
VERSION:2.0
CALSCALE:GREGORIAN
PRODID:-//Diputació de Barcelona//DibaCMS//EN
BEGIN:VEVENT
UID:6564
DTSTAMP:20260424T033140
DTSTART:20120701T190000
DTEND:20120701T000000
SUMMARY:Caldeja't 2012. Concert amb la Coral Guisla, la Coral del Centre i la Coral de Santa Cecília
LOCATION:
METHOD:PUBLISH
X-WR-CALNAME:caldesm@caldesdemontbui.cat
X-WR-TIMEZONE:Europe/Madrid
DESCRIPTION:
URI:https://www.caldesdemontbui.cat/actualitat/agenda/caldejat-2012-concert-amb-la-coral-guisla-la-coral-del-centre-i-la-coral-de-santa-cecilia.html
CLASS:PUBLIC
END:VEVENT
END:VCALENDAR
