BEGIN:VCALENDAR
VERSION:2.0
CALSCALE:GREGORIAN
PRODID:-//Diputació de Barcelona//DibaCMS//EN
BEGIN:VEVENT
UID:6563
DTSTAMP:20260424T084100
DTSTART:20120701T153000
DTEND:20120701T000000
SUMMARY:Cireres 2012. Restaurant La Bota de Caldes i concert de saxos i combos
LOCATION:
METHOD:PUBLISH
X-WR-CALNAME:caldesm@caldesdemontbui.cat
X-WR-TIMEZONE:Europe/Madrid
DESCRIPTION:
URI:https://www.caldesdemontbui.cat/actualitat/agenda/cireres-2012-restaurant-la-bota-de-caldes-i-concert-de-saxos-i-combos.html
CLASS:PUBLIC
END:VEVENT
END:VCALENDAR
