BEGIN:VCALENDAR
VERSION:2.0
CALSCALE:GREGORIAN
PRODID:-//Diputació de Barcelona//DibaCMS//EN
BEGIN:VEVENT
UID:6562
DTSTAMP:20260424T083847
DTSTART:20120630T173000
DTEND:20120630T000000
SUMMARY:Caldeja't 2012. 2n. Festival de patinatge artístic
LOCATION:
METHOD:PUBLISH
X-WR-CALNAME:caldesm@caldesdemontbui.cat
X-WR-TIMEZONE:Europe/Madrid
DESCRIPTION:
URI:https://www.caldesdemontbui.cat/actualitat/agenda/caldejat-2012-2n-festival-de-patinatge-artistic.html
CLASS:PUBLIC
END:VEVENT
END:VCALENDAR
