BEGIN:VCALENDAR
VERSION:2.0
CALSCALE:GREGORIAN
PRODID:-//Diputació de Barcelona//DibaCMS//EN
BEGIN:VEVENT
UID:6559
DTSTAMP:20260424T051247
DTSTART:20120630T113000
DTEND:20120630T000000
SUMMARY:Caldeja't 2012. 15 són 15. Celebració 15è aniversari del Ball de Bastoners de Caldes de Montbui
LOCATION:
METHOD:PUBLISH
X-WR-CALNAME:caldesm@caldesdemontbui.cat
X-WR-TIMEZONE:Europe/Madrid
DESCRIPTION:
URI:https://www.caldesdemontbui.cat/actualitat/agenda/caldejat-2012-15-son-15-celebracio-15e-aniversari-del-ball-de-bastoners-de-caldes-de-montbui.html
CLASS:PUBLIC
END:VEVENT
END:VCALENDAR
