BEGIN:VCALENDAR
VERSION:2.0
CALSCALE:GREGORIAN
PRODID:-//Diputació de Barcelona//DibaCMS//EN
BEGIN:VEVENT
UID:6554
DTSTAMP:20260420T114734
DTSTART:20120629T180000
DTEND:20120629T000000
SUMMARY:Hora del conte: Sota les onades, a càrrec de Mon Mas
LOCATION:
METHOD:PUBLISH
X-WR-CALNAME:caldesm@caldesdemontbui.cat
X-WR-TIMEZONE:Europe/Madrid
DESCRIPTION:
URI:https://www.caldesdemontbui.cat/actualitat/agenda/hora-del-conte-sota-les-onades-a-carrec-de-mon-mas.html
CLASS:PUBLIC
END:VEVENT
END:VCALENDAR
