BEGIN:VCALENDAR
VERSION:2.0
CALSCALE:GREGORIAN
PRODID:-//Diputació de Barcelona//DibaCMS//EN
BEGIN:VEVENT
UID:6546
DTSTAMP:20260425T051650
DTSTART:20120625T173000
DTEND:20120625T000000
SUMMARY:L'Escola Municipal de Música Joan Valls organitza un curs d'estiu per provar la música
LOCATION:
METHOD:PUBLISH
X-WR-CALNAME:caldesm@caldesdemontbui.cat
X-WR-TIMEZONE:Europe/Madrid
DESCRIPTION:
URI:https://www.caldesdemontbui.cat/actualitat/agenda/lescola-municipal-de-msica-joan-valls-organitza-un-curs-destiu-per-provar-la-msica.html
CLASS:PUBLIC
END:VEVENT
END:VCALENDAR
