BEGIN:VCALENDAR
VERSION:2.0
CALSCALE:GREGORIAN
PRODID:-//Diputació de Barcelona//DibaCMS//EN
BEGIN:VEVENT
UID:6544
DTSTAMP:20260424T080248
DTSTART:20120625T100000
DTEND:20120625T000000
SUMMARY:Taller de dibuix de còmic i il·lustració (del 25 de juny al 27 de juliol)
LOCATION:
METHOD:PUBLISH
X-WR-CALNAME:caldesm@caldesdemontbui.cat
X-WR-TIMEZONE:Europe/Madrid
DESCRIPTION:
URI:https://www.caldesdemontbui.cat/actualitat/agenda/taller-de-dibuix-de-comic-i-illustracio-del-25-de-juny-al-27-de-juliol.html
CLASS:PUBLIC
END:VEVENT
END:VCALENDAR
