BEGIN:VCALENDAR
VERSION:2.0
CALSCALE:GREGORIAN
PRODID:-//Diputació de Barcelona//DibaCMS//EN
BEGIN:VEVENT
UID:6542
DTSTAMP:20260424T014927
DTSTART:20120623T190000
DTEND:20120623T000000
SUMMARY:Acte amb motiu de la "Marxa per la independència"
LOCATION:
METHOD:PUBLISH
X-WR-CALNAME:caldesm@caldesdemontbui.cat
X-WR-TIMEZONE:Europe/Madrid
DESCRIPTION:
URI:https://www.caldesdemontbui.cat/actualitat/agenda/acte-amb-motiu-de-la-marxa-per-la-independencia.html
CLASS:PUBLIC
END:VEVENT
END:VCALENDAR
