BEGIN:VCALENDAR
VERSION:2.0
CALSCALE:GREGORIAN
PRODID:-//Diputació de Barcelona//DibaCMS//EN
BEGIN:VEVENT
UID:6538
DTSTAMP:20260425T052106
DTSTART:20120622T203000
DTEND:20120622T000000
SUMMARY:Viatgeteca 2012. Xerrada "Travessies: Midi Ossau i La Glacera de la Vanoise" a càrrec de Joan Soler
LOCATION:
METHOD:PUBLISH
X-WR-CALNAME:caldesm@caldesdemontbui.cat
X-WR-TIMEZONE:Europe/Madrid
DESCRIPTION:
URI:https://www.caldesdemontbui.cat/actualitat/agenda/viatgeteca-2012-xerrada-travessies-midi-ossau-i-la-glacera-de-la-vanoise-a-carrec-de-joan-soler.html
CLASS:PUBLIC
END:VEVENT
END:VCALENDAR
