BEGIN:VCALENDAR
VERSION:2.0
CALSCALE:GREGORIAN
PRODID:-//Diputació de Barcelona//DibaCMS//EN
BEGIN:VEVENT
UID:6537
DTSTAMP:20260424T015756
DTSTART:20120622T200000
DTEND:20120622T000000
SUMMARY:Exposició de pintures a l'oli de Elvira Padró a la Sala Delger. Del 22 de juny al 21 de juliol
LOCATION:
METHOD:PUBLISH
X-WR-CALNAME:caldesm@caldesdemontbui.cat
X-WR-TIMEZONE:Europe/Madrid
DESCRIPTION:
URI:https://www.caldesdemontbui.cat/actualitat/agenda/exposicio-de-pintures-a-loli-de-elvira-padro-a-la-sala-delger-del-22-de-juny-al-21-de-juliol.html
CLASS:PUBLIC
END:VEVENT
END:VCALENDAR
