BEGIN:VCALENDAR
VERSION:2.0
CALSCALE:GREGORIAN
PRODID:-//Diputació de Barcelona//DibaCMS//EN
BEGIN:VEVENT
UID:6536
DTSTAMP:20260424T094623
DTSTART:20120622T200000
DTEND:20120622T000000
SUMMARY:Festes de Barri: Bugarai (22 i 23 de juny)
LOCATION:
METHOD:PUBLISH
X-WR-CALNAME:caldesm@caldesdemontbui.cat
X-WR-TIMEZONE:Europe/Madrid
DESCRIPTION:
URI:https://www.caldesdemontbui.cat/actualitat/agenda/festes-de-barri-bugarai-22-i-23-de-juny.html
CLASS:PUBLIC
END:VEVENT
END:VCALENDAR
