BEGIN:VCALENDAR
VERSION:2.0
CALSCALE:GREGORIAN
PRODID:-//Diputació de Barcelona//DibaCMS//EN
BEGIN:VEVENT
UID:6534
DTSTAMP:20260424T083413
DTSTART:20120622T163000
DTEND:20120622T000000
SUMMARY:Setmana de la Salut. Caminada a la Torre Marimon i berenar
LOCATION:
METHOD:PUBLISH
X-WR-CALNAME:caldesm@caldesdemontbui.cat
X-WR-TIMEZONE:Europe/Madrid
DESCRIPTION:
URI:https://www.caldesdemontbui.cat/actualitat/agenda/setmana-de-la-salut-caminada-a-la-torre-marimon-i-berenar.html
CLASS:PUBLIC
END:VEVENT
END:VCALENDAR
