BEGIN:VCALENDAR
VERSION:2.0
CALSCALE:GREGORIAN
PRODID:-//Diputació de Barcelona//DibaCMS//EN
BEGIN:VEVENT
UID:6532
DTSTAMP:20260424T094759
DTSTART:20120621T160000
DTEND:20120621T000000
SUMMARY:Setmana de la Salut. Cinefòrum "Todos están bien"
LOCATION:
METHOD:PUBLISH
X-WR-CALNAME:caldesm@caldesdemontbui.cat
X-WR-TIMEZONE:Europe/Madrid
DESCRIPTION:
URI:https://www.caldesdemontbui.cat/actualitat/agenda/setmana-de-la-salut-cineforum-todos-estan-bien.html
CLASS:PUBLIC
END:VEVENT
END:VCALENDAR
