BEGIN:VCALENDAR
VERSION:2.0
CALSCALE:GREGORIAN
PRODID:-//Diputació de Barcelona//DibaCMS//EN
BEGIN:VEVENT
UID:6530
DTSTAMP:20260424T083014
DTSTART:20120620T160000
DTEND:20120620T000000
SUMMARY:Setmana de la Salut. Stop al matrimoni
LOCATION:
METHOD:PUBLISH
X-WR-CALNAME:caldesm@caldesdemontbui.cat
X-WR-TIMEZONE:Europe/Madrid
DESCRIPTION:
URI:https://www.caldesdemontbui.cat/actualitat/agenda/setmana-de-la-salut-stop-al-matrimoni.html
CLASS:PUBLIC
END:VEVENT
END:VCALENDAR
