BEGIN:VCALENDAR
VERSION:2.0
CALSCALE:GREGORIAN
PRODID:-//Diputació de Barcelona//DibaCMS//EN
BEGIN:VEVENT
UID:6528
DTSTAMP:20260424T051327
DTSTART:20120619T193000
DTEND:20120619T000000
SUMMARY:Acte de lliurament dels ajuts solidaris a joves per a activitats de cooperació al desenvolupament 2012
LOCATION:
METHOD:PUBLISH
X-WR-CALNAME:caldesm@caldesdemontbui.cat
X-WR-TIMEZONE:Europe/Madrid
DESCRIPTION:
URI:https://www.caldesdemontbui.cat/actualitat/agenda/acte-de-lliurament-dels-ajuts-solidaris-a-joves-per-a-activitats-de-cooperacio-al-desenvolupament-2012.html
CLASS:PUBLIC
END:VEVENT
END:VCALENDAR
