BEGIN:VCALENDAR
VERSION:2.0
CALSCALE:GREGORIAN
PRODID:-//Diputació de Barcelona//DibaCMS//EN
BEGIN:VEVENT
UID:6524
DTSTAMP:20260424T045449
DTSTART:20120617T120000
DTEND:20120617T000000
SUMMARY:Concurs: Cerquem els millors golafres de cireres!
LOCATION:
METHOD:PUBLISH
X-WR-CALNAME:caldesm@caldesdemontbui.cat
X-WR-TIMEZONE:Europe/Madrid
DESCRIPTION:
URI:https://www.caldesdemontbui.cat/actualitat/agenda/concurs-cerquem-els-millors-golafres-de-cireres.html
CLASS:PUBLIC
END:VEVENT
END:VCALENDAR
