BEGIN:VCALENDAR
VERSION:2.0
CALSCALE:GREGORIAN
PRODID:-//Diputació de Barcelona//DibaCMS//EN
BEGIN:VEVENT
UID:6520
DTSTAMP:20260424T080103
DTSTART:20120617T000000
DTEND:20120617T000000
SUMMARY:Camí de Sant Jaume. Vic - L'Estany
LOCATION:
METHOD:PUBLISH
X-WR-CALNAME:caldesm@caldesdemontbui.cat
X-WR-TIMEZONE:Europe/Madrid
DESCRIPTION:
URI:https://www.caldesdemontbui.cat/actualitat/agenda/cami-de-sant-jaume-vic---lestany.html
CLASS:PUBLIC
END:VEVENT
END:VCALENDAR
