BEGIN:VCALENDAR
VERSION:2.0
CALSCALE:GREGORIAN
PRODID:-//Diputació de Barcelona//DibaCMS//EN
BEGIN:VEVENT
UID:6519
DTSTAMP:20260424T064627
DTSTART:20120616T190000
DTEND:20120616T000000
SUMMARY:Berenar sopar pro restauració de l'Església de Sant Sebastià de Montmajor
LOCATION:
METHOD:PUBLISH
X-WR-CALNAME:caldesm@caldesdemontbui.cat
X-WR-TIMEZONE:Europe/Madrid
DESCRIPTION:
URI:https://www.caldesdemontbui.cat/actualitat/agenda/berenar-sopar-pro-restauracio-de-lesglesia-de-sant-sebastia-de-montmajor.html
CLASS:PUBLIC
END:VEVENT
END:VCALENDAR
