BEGIN:VCALENDAR
VERSION:2.0
CALSCALE:GREGORIAN
PRODID:-//Diputació de Barcelona//DibaCMS//EN
BEGIN:VEVENT
UID:6517
DTSTAMP:20260424T051009
DTSTART:20120616T100000
DTEND:20120616T000000
SUMMARY:Endolcim la vida: Mousse de xocolata
LOCATION:
METHOD:PUBLISH
X-WR-CALNAME:caldesm@caldesdemontbui.cat
X-WR-TIMEZONE:Europe/Madrid
DESCRIPTION:
URI:https://www.caldesdemontbui.cat/actualitat/agenda/endolcim-la-vida-mousse-de-xocolata.html
CLASS:PUBLIC
END:VEVENT
END:VCALENDAR
